BEGIN:VCALENDAR
VERSION:2.0
PRODID:-//McCook Public Library - ECPv6.15.20//NONSGML v1.0//EN
CALSCALE:GREGORIAN
METHOD:PUBLISH
X-ORIGINAL-URL:https://mccook.lib.il.us
X-WR-CALDESC:Events for McCook Public Library
REFRESH-INTERVAL;VALUE=DURATION:PT1H
X-Robots-Tag:noindex
X-PUBLISHED-TTL:PT1H
BEGIN:VTIMEZONE
TZID:America/Chicago
BEGIN:DAYLIGHT
TZOFFSETFROM:-0600
TZOFFSETTO:-0500
TZNAME:CDT
DTSTART:20250309T080000
END:DAYLIGHT
BEGIN:STANDARD
TZOFFSETFROM:-0500
TZOFFSETTO:-0600
TZNAME:CST
DTSTART:20251102T070000
END:STANDARD
BEGIN:DAYLIGHT
TZOFFSETFROM:-0600
TZOFFSETTO:-0500
TZNAME:CDT
DTSTART:20260308T080000
END:DAYLIGHT
BEGIN:STANDARD
TZOFFSETFROM:-0500
TZOFFSETTO:-0600
TZNAME:CST
DTSTART:20261101T070000
END:STANDARD
BEGIN:DAYLIGHT
TZOFFSETFROM:-0600
TZOFFSETTO:-0500
TZNAME:CDT
DTSTART:20270314T080000
END:DAYLIGHT
BEGIN:STANDARD
TZOFFSETFROM:-0500
TZOFFSETTO:-0600
TZNAME:CST
DTSTART:20271107T070000
END:STANDARD
END:VTIMEZONE
BEGIN:VEVENT
DTSTART;TZID=America/Chicago:20260202T163000
DTEND;TZID=America/Chicago:20260202T173000
DTSTAMP:20260423T194759
CREATED:20260129T205727Z
LAST-MODIFIED:20260129T205845Z
UID:19237-1770049800-1770053400@mccook.lib.il.us
SUMMARY:Heart Rainbow Wreath
DESCRIPTION:Create a colorful Paper Heart Rainbow Wreath using layered paper hearts arranged in a bright rainbow design. A fun and festive craft perfect for celebrating Valentine’s season! Sign-up is required.
URL:https://mccook.lib.il.us/event/heart-rainbow-wreath/
LOCATION:Children’s Room
CATEGORIES:Children ages 5 to 12
END:VEVENT
BEGIN:VEVENT
DTSTART;TZID=America/Chicago:20260203T110000
DTEND;TZID=America/Chicago:20260203T120000
DTSTAMP:20260423T194759
CREATED:20260129T205947Z
LAST-MODIFIED:20260129T205948Z
UID:19240-1770116400-1770120000@mccook.lib.il.us
SUMMARY:Cotton Ball Heart Painting
DESCRIPTION:Create a heart-themed painting using cotton balls! Participants will dip cotton balls into paint to make a soft\, textured heart design perfect for Valentine’s season. Sign-up is required.
URL:https://mccook.lib.il.us/event/cotton-ball-heart-painting/
LOCATION:Children’s Room
CATEGORIES:Babies/Toddlers
END:VEVENT
BEGIN:VEVENT
DTSTART;TZID=America/Chicago:20260204T163000
DTEND;TZID=America/Chicago:20260204T173000
DTSTAMP:20260423T194759
CREATED:20260129T210054Z
LAST-MODIFIED:20260129T210055Z
UID:19242-1770222600-1770226200@mccook.lib.il.us
SUMMARY:Clay Open Heart Craft
DESCRIPTION:Join us for a clay open heart craft where we’ll be molding clay to create a heart-shaped design. A fun\, creative way to explore sculpting and texture! Sign-up is required.
URL:https://mccook.lib.il.us/event/clay-open-heart-craft/
LOCATION:Children’s Room
CATEGORIES:Children ages 5 to 12
END:VEVENT
BEGIN:VEVENT
DTSTART;TZID=America/Chicago:20260205T110000
DTEND;TZID=America/Chicago:20260205T120000
DTSTAMP:20260423T194759
CREATED:20260202T224546Z
LAST-MODIFIED:20260202T224547Z
UID:19245-1770289200-1770292800@mccook.lib.il.us
SUMMARY:Patchwork Valentine Paper Plate Bear
DESCRIPTION:Create a patchwork Valentine bear using a paper plate! Participants will decorate their bear with colorful paper pieces to make a fun\, love-filled craft. Sign-up is required.
URL:https://mccook.lib.il.us/event/patchwork-valentine-paper-plate-bear/
LOCATION:Children’s Room
CATEGORIES:Babies/Toddlers
END:VEVENT
BEGIN:VEVENT
DTSTART;TZID=America/Chicago:20260206T110000
DTEND;TZID=America/Chicago:20260206T120000
DTSTAMP:20260423T194759
CREATED:20260202T224734Z
LAST-MODIFIED:20260202T224735Z
UID:19247-1770375600-1770379200@mccook.lib.il.us
SUMMARY:Tech Help
DESCRIPTION:Struggling with tech? Get one-on-one help from friendly “experts”—no question too small! Drop in and leave confident with your devices. Sign-up is required.
URL:https://mccook.lib.il.us/event/tech-help-6/
LOCATION:Conference room
CATEGORIES:Adults
END:VEVENT
BEGIN:VEVENT
DTSTART;TZID=America/Chicago:20260207T120000
DTEND;TZID=America/Chicago:20260207T130000
DTSTAMP:20260423T194759
CREATED:20260202T225001Z
LAST-MODIFIED:20260202T225002Z
UID:19250-1770465600-1770469200@mccook.lib.il.us
SUMMARY:Heart Shaped Clay Ornaments
DESCRIPTION:Participants will decorate heart-shaped clay ornaments using a variety of materials to create a unique and heartfelt keepsake to take home. Sign-up is required.
URL:https://mccook.lib.il.us/event/heart-shaped-clay-ornaments/
LOCATION:Conference room
CATEGORIES:Family Event
END:VEVENT
BEGIN:VEVENT
DTSTART;TZID=America/Chicago:20260210T110000
DTEND;TZID=America/Chicago:20260210T120000
DTSTAMP:20260423T194759
CREATED:20260202T225130Z
LAST-MODIFIED:20260202T225131Z
UID:19252-1770721200-1770724800@mccook.lib.il.us
SUMMARY:Valentine Robot
DESCRIPTION:Get creative by designing and decorating a fun Valentine robot! Using craft supplies\, participants will create a unique robot filled with hearts\, colors\, and lots of love to take home. Sign-up is required.
URL:https://mccook.lib.il.us/event/valentine-robot/
LOCATION:Children’s Room
CATEGORIES:Babies/Toddlers
END:VEVENT
BEGIN:VEVENT
DTSTART;TZID=America/Chicago:20260211T163000
DTEND;TZID=America/Chicago:20260211T173000
DTSTAMP:20260423T194759
CREATED:20260202T225250Z
LAST-MODIFIED:20260202T225251Z
UID:19254-1770827400-1770831000@mccook.lib.il.us
SUMMARY:Clay Open Heart Continued
DESCRIPTION:Day two of our clay open heart craft focuses on painting and adding the finishing touches! Participants will decorate their molded clay hearts and bring their creations to life. Sign-up is required.
URL:https://mccook.lib.il.us/event/clay-open-heart-continued/
LOCATION:Children’s Room
CATEGORIES:Children ages 5 to 12
END:VEVENT
BEGIN:VEVENT
DTSTART;TZID=America/Chicago:20260212T110000
DTEND;TZID=America/Chicago:20260212T120000
DTSTAMP:20260423T194759
CREATED:20260202T225350Z
LAST-MODIFIED:20260202T225351Z
UID:19256-1770894000-1770897600@mccook.lib.il.us
SUMMARY:Valentines Mailbox
DESCRIPTION:Create and decorate a Valentine mailbox just in time for Valentine’s Day! Using fun craft supplies\, participants will design a special mailbox to collect cards\, messages\, and little Valentine treats. Sign-up is required.
URL:https://mccook.lib.il.us/event/valentines-mailbox/
LOCATION:Children’s Room
CATEGORIES:Babies/Toddlers
END:VEVENT
BEGIN:VEVENT
DTSTART;TZID=America/Chicago:20260213T110000
DTEND;TZID=America/Chicago:20260213T120000
DTSTAMP:20260423T194759
CREATED:20260202T225944Z
LAST-MODIFIED:20260212T204205Z
UID:19258-1770980400-1770984000@mccook.lib.il.us
SUMMARY:Bingo Canceled
DESCRIPTION:Join us for an exciting afternoon of Bingo with a chance to win fantastic prizes! Sign-up is required. We’ll also have a clerk from the Circuit Court on hand to share information about the many resources available to you.
URL:https://mccook.lib.il.us/event/bingo-10/
LOCATION:Conference room
CATEGORIES:Adults
END:VEVENT
BEGIN:VEVENT
DTSTART;TZID=America/Chicago:20260214T120000
DTEND;TZID=America/Chicago:20260214T130000
DTSTAMP:20260423T194759
CREATED:20260202T230242Z
LAST-MODIFIED:20260212T204222Z
UID:19260-1771070400-1771074000@mccook.lib.il.us
SUMMARY:Valentine's Day Hand Warmers Canceled
DESCRIPTION:Stay warm this Valentine’s Day by making your own handmade hand warmers! Participants will decorate and assemble cozy hand warmers with fun Valentine designs to take home and enjoy. Sign-up is required.
URL:https://mccook.lib.il.us/event/valentines-day-hand-warmers/
LOCATION:Conference room
CATEGORIES:Family Event
END:VEVENT
BEGIN:VEVENT
DTSTART;TZID=America/Chicago:20260217T110000
DTEND;TZID=America/Chicago:20260217T120000
DTSTAMP:20260423T194759
CREATED:20260202T230347Z
LAST-MODIFIED:20260202T230347Z
UID:19262-1771326000-1771329600@mccook.lib.il.us
SUMMARY:Heart Air Balloon
DESCRIPTION:Participants will create a heart-themed hot air balloon craft using paper and craft materials. Decorate with colorful hearts and creative details to make a fun Valentine keepsake. Sign-up is required.
URL:https://mccook.lib.il.us/event/heart-air-balloon/
LOCATION:Children’s Room
CATEGORIES:Babies/Toddlers
END:VEVENT
BEGIN:VEVENT
DTSTART;TZID=America/Chicago:20260218T163000
DTEND;TZID=America/Chicago:20260218T173000
DTSTAMP:20260423T194759
CREATED:20260202T230501Z
LAST-MODIFIED:20260202T230502Z
UID:19264-1771432200-1771435800@mccook.lib.il.us
SUMMARY:Perler Bead Fun
DESCRIPTION:Join us for a fantastic session of designing and fusing perler beads into amazing creations. Whether you prefer following patterns or crafting your unique designs\, this is an exciting way to express yourself through art. Sign-up is required.
URL:https://mccook.lib.il.us/event/perler-bead-fun-3/
LOCATION:Children’s Room
CATEGORIES:Children ages 5 to 12
END:VEVENT
BEGIN:VEVENT
DTSTART;TZID=America/Chicago:20260219T110000
DTEND;TZID=America/Chicago:20260219T120000
DTSTAMP:20260423T194759
CREATED:20260202T230622Z
LAST-MODIFIED:20260202T230622Z
UID:19266-1771498800-1771502400@mccook.lib.il.us
SUMMARY:Neurographic Art
DESCRIPTION:Participants will create their own neurographic art by drawing flowing lines and filling spaces with color. This relaxing\, creative activity encourages mindfulness while creating a one-of-a-kind abstract artwork. Sign-up is required.
URL:https://mccook.lib.il.us/event/neurographic-art/
LOCATION:Children’s Room
CATEGORIES:Babies/Toddlers
END:VEVENT
BEGIN:VEVENT
DTSTART;TZID=America/Chicago:20260220T110000
DTEND;TZID=America/Chicago:20260220T120000
DTSTAMP:20260423T194759
CREATED:20260202T231129Z
LAST-MODIFIED:20260202T231130Z
UID:19268-1771585200-1771588800@mccook.lib.il.us
SUMMARY:Cookbook Club
DESCRIPTION:Join us for a cozy cooking session as we make Valentine’s Day–themed sweets! Even if the day has passed\, there’s always room for a little extra love and delicious treats in our lives. Sign-up is required.
URL:https://mccook.lib.il.us/event/cookbook-club-5/
LOCATION:Conference room
CATEGORIES:Adults
END:VEVENT
BEGIN:VEVENT
DTSTART;TZID=America/Chicago:20260221T120000
DTEND;TZID=America/Chicago:20260221T130000
DTSTAMP:20260423T194759
CREATED:20260202T231220Z
LAST-MODIFIED:20260202T231220Z
UID:19270-1771675200-1771678800@mccook.lib.il.us
SUMMARY:Personalized Candles
DESCRIPTION:Design and decorate your own candles with parchment paper! Participants will transfer their artwork or messages onto candles\, creating a one-of-a-kind keepsake that’s both personal and decorative. Sign-up is required.
URL:https://mccook.lib.il.us/event/personalized-candles/
LOCATION:Conference room
CATEGORIES:Family Event
END:VEVENT
BEGIN:VEVENT
DTSTART;TZID=America/Chicago:20260223T163000
DTEND;TZID=America/Chicago:20260223T173000
DTSTAMP:20260423T194759
CREATED:20260202T231325Z
LAST-MODIFIED:20260202T231326Z
UID:19272-1771864200-1771867800@mccook.lib.il.us
SUMMARY:Wax Paper Art
DESCRIPTION:Get creative with wax paper! Participants will experiment with colors\, shapes\, and textures to make vibrant\, one-of-a-kind artwork perfect for displaying or gifting. Sign-up is required.
URL:https://mccook.lib.il.us/event/wax-paper-art/
LOCATION:Children’s Room
CATEGORIES:Children ages 5 to 12
END:VEVENT
BEGIN:VEVENT
DTSTART;TZID=America/Chicago:20260224T110000
DTEND;TZID=America/Chicago:20260224T120000
DTSTAMP:20260423T194759
CREATED:20260202T231428Z
LAST-MODIFIED:20260202T231428Z
UID:19274-1771930800-1771934400@mccook.lib.il.us
SUMMARY:Paper Squishy
DESCRIPTION:Get crafty by making your own paper squishies! Participants will color\, cut\, and assemble fun shapes or characters that can be squeezed and enjoyed again and again. Sign-up is required.
URL:https://mccook.lib.il.us/event/paper-squishy/
LOCATION:Children’s Room
CATEGORIES:Babies/Toddlers
END:VEVENT
BEGIN:VEVENT
DTSTART;TZID=America/Chicago:20260225T163000
DTEND;TZID=America/Chicago:20260225T173000
DTSTAMP:20260423T194759
CREATED:20260202T231536Z
LAST-MODIFIED:20260219T195747Z
UID:19276-1772037000-1772040600@mccook.lib.il.us
SUMMARY:Bracelet Making
DESCRIPTION:Get creative and design your very own bracelet! We’ll have colorful beads and fun materials so you can mix\, match\, and create a one-of-a-kind accessory to wear or share.Sign-up is required.
URL:https://mccook.lib.il.us/event/diy-keychain/
LOCATION:Children’s Room
CATEGORIES:Children ages 5 to 12
END:VEVENT
BEGIN:VEVENT
DTSTART;TZID=America/Chicago:20260226T110000
DTEND;TZID=America/Chicago:20260226T120000
DTSTAMP:20260423T194759
CREATED:20260202T231634Z
LAST-MODIFIED:20260202T231634Z
UID:19278-1772103600-1772107200@mccook.lib.il.us
SUMMARY:Bubble Painting
DESCRIPTION:Get ready to make art that pops! Participants will mix paint with bubbles and blow them onto paper to create one-of-a-kind\, vibrant designs that are as fun to make as they are to display. Sign-up is required.
URL:https://mccook.lib.il.us/event/bubble-painting/
LOCATION:Children’s Room
CATEGORIES:Babies/Toddlers
END:VEVENT
BEGIN:VEVENT
DTSTART;TZID=America/Chicago:20260227T110000
DTEND;TZID=America/Chicago:20260227T120000
DTSTAMP:20260423T194759
CREATED:20260219T200115Z
LAST-MODIFIED:20260219T200116Z
UID:19288-1772190000-1772193600@mccook.lib.il.us
SUMMARY:Bingo
DESCRIPTION:Come and join us for a variety of thrilling Bingo games and win fantastic prizes! Sign-up is required
URL:https://mccook.lib.il.us/event/bingo-11/
LOCATION:Conference room
CATEGORIES:Adults
END:VEVENT
END:VCALENDAR